Workbook
Name 記号記入: 一般女子!$T$5:$T$21
Name 記号記入: 一般男子!$T$5:$T$21
Name 記号記入: '高校 女子'!$T$5:$T$21
Name 記号記入: '高校 男子'!$T$5:$T$21
Name 記号記入: '小中 女子'!$T$5:$T$22
Name 記号記入: '小中 男子'!$T$5:$T$22
Name 記号記入: #REF!
Name 種目: 一般女子!$T$5:$T$21
Name 種目: 一般男子!$T$5:$T$21
Name 種目: '高校 女子'!$T$5:$T$21
Name 種目: '高校 男子'!$T$5:$T$21
Name 種目: '小中 女子'!$T$5:$T$22
Name 種目: '小中 男子'!$T$5:$T$22
Name 種目: #REF!

Sheet 小中 男子
A1: ＊ 申込締切り 令和 ８年 １１月 ２７日（金) 必着
A2: 第１９回一関市バドミントンダブルス大会 参加申込書
A3: 団体名 | K3: 申込者名
A4: 住 所 | K4: 連絡先TEL
A5: ﾒｰﾙアドレス | T5: BDJ１
T6: BDJ２
A7: 小中学生の部 / 男子 | T7: BDJ３
A8: 種目の混在（例：中学３年生以下と中学１年生以下など）は構いません。 | T8: BDJ４
A9: 監督氏名 | I9: コーチ氏名 | T9: BDH１
T10: BDH２
A11: <種目記号> | D11: BDJ１ | F11: 男子 中学３年以下 | J11: BDJ２ | L11: 男子 中学１年以下 | T11: MD1
D12: BDJ３ | F12: 男子 小学６年以下 | J12: BDJ４ | L12: 男子 小学４年以下 | T12: MD２
B13: ※各種目ランキング順に入力すること。 | T13: MD５
A14: No. | B14: 順位 | C14: 種目 | D14: 氏 名 | F14: ふ り が な | H14: 学年 | I14: 背面表示 | J14: 氏 名 | L14: ふ り が な | N14: 学年 | O14: 背面表示
C15: 記号 | D15: （苗字と名前の間に全角スペースを入れてください） | I15: （チーム名） | J15: （苗字と名前の間に全角スペースを入れてください） | O15: （チーム名） | T15: GDJ１
A16: 1 | T16: GDJ２
A17: 2 | T17: GDJ３
A18: 3 | T18: GDJ４
A19: 4 | T19: GDH１
A20: 5 | T20: GDH２
A21: 6 | T21: WD１
A22: 7 | T22: WD２
A23: 8 | T23: WD３
A24: 9 | T24: DB
A25: 10
A26: 11
A27: 12
A28: 13
A29: 14
C31: 参加料 | E31: 小・中学生 | G31: 3,000 円 ｘ | I31: 組 = | K31: =H31*3000 -> 0 | L31: 円 | M31: 合計 | N31: =K31&" 円" -> 0 円
J32: ※出場者全員が参加資格を満たしていることを確認のうえ、申込すること。 ※チーム毎にまとめて送金すること。
A33: ＊送金者名を下記にご記入ください。
C34: 送金者名：

Sheet 小中 女子
A1: ='小中 男子'!A1:O1 -> ＊ 申込締切り 令和 ８年 １１月 ２７日（金) 必着
A2: ='小中 男子'!A2:O2 -> 第１９回一関市バドミントンダブルス大会 参加申込書
A3: 団体名 | K3: 申込者名
A4: 住 所 | K4: 連絡先TEL
A5: ﾒｰﾙアドレス | T5: GDJ１
T6: GDJ２
A7: 小中学生の部 / 女子 | T7: GDJ３
A8: 種目の混在（例：中学３年生以下と中学１年生以下など）は構いません。 | T8: GDJ４
A9: 監督氏名 | I9: コーチ氏名
A11: <種目記号> | D11: GDJ１ | F11: 女子 中学３年以下 | J11: GDJ２ | L11: 女子 中学１年以下
D12: GDJ３ | F12: 女子 小学６年以下 | J12: GDJ４ | L12: 女子 小学４年以下
B13: ※各種目ランキング順に入力すること。
A14: No. | B14: 順位 | C14: 種目 | D14: 氏 名 | F14: ふ り が な | H14: 学年 | I14: 背面表示 | J14: 氏 名 | L14: ふ り が な | N14: 学年 | O14: 背面表示
C15: 記号 | D15: （苗字と名前の間に全角スペースを入れてください） | I15: （チーム名） | J15: （苗字と名前の間に全角スペースを入れてください） | O15: （チーム名）
A16: 1
A17: 2
A18: 3
A19: 4
A20: 5
A21: 6
A22: 7
A23: 8
A24: 9
A25: 10
A26: 11
A27: 12
... A29: 14
C31: 参加料 | E31: 小・中学生 | G31: 3,000 円 ｘ | I31: 組 = | K31: =H31*3000 -> 0 | L31: 円 | M31: 合計 | N31: =K31&" 円" -> 0 円
J32: ※出場者全員が参加資格を満たしていることを確認のうえ、申込すること。 ※チーム毎にまとめて送金すること。
A33: ＊送金者名を下記にご記入ください。
C34: 送金者名：

Sheet 高校 男子
A1: ='小中 男子'!A1:O1 -> ＊ 申込締切り 令和 ８年 １１月 ２７日（金) 必着
A2: ='小中 男子'!A2:O2 -> 第１９回一関市バドミントンダブルス大会 参加申込書
A3: 団体名 | K3: 申込者名
A4: 住 所 | K4: 連絡先TEL
A5: ﾒｰﾙアドレス
A7: 高校生の部 / 男子 | S7: BDH１
A8: 種目の混在（例：高校３年生以下と高校１年生以下など）は構いません。 | S8: BDH２
A9: 監督氏名 | I9: コーチ氏名
A11: <種目記号> | D11: BDH１ | F11: 男子 高校３年以下 | J11: BDH２ | L11: 男子 高校１年以下
B12: ※各種目ランキング順に入力すること。
A13: No. | B13: 順位 | C13: 種目 | D13: 氏 名 | F13: ふ り が な | H13: 学年 | I13: 背面表示 | J13: 氏 名 | L13: ふ り が な | N13: 学年 | O13: 背面表示
C14: 記号 | D14: （苗字と名前の間に全角スペースを入れてください） | I14: （チーム名） | J14: （苗字と名前の間に全角スペースを入れてください） | O14: （チーム名）
A15: 1
A16: 2
A17: 3
A18: 4
A19: 5
A20: 6
A21: 7
A22: 8
A23: 9
A24: 10
A25: 11
A26: 12
... A28: 14
C30: 参加料 | E30: 中学生 | G30: 3,000 円 ｘ | I30: 組 = | K30: =H30*3000 -> 0 | L30: 円
E31: 高校生 | G31: 4,000 円 ｘ | I31: 組 = | K31: =H31*4000 -> 0 | L31: 円 | M31: 合計 | N31: =K30+K31&" 円" -> 0 円
J32: ※出場者全員が参加資格を満たしていることを確認のうえ、申込すること。 ※チーム毎にまとめて送金すること。
A33: ＊送金者名を下記にご記入ください。
C34: 送金者名：

Sheet 高校 女子
A1: ='小中 男子'!A1:O1 -> ＊ 申込締切り 令和 ８年 １１月 ２７日（金) 必着
A2: ='小中 男子'!A2:O2 -> 第１９回一関市バドミントンダブルス大会 参加申込書
A3: 団体名 | K3: 申込者名
A4: 住 所 | K4: 連絡先TEL
A5: ﾒｰﾙアドレス
A7: 高校生の部 / 女子 | S7: GDH１
A8: 種目の混在（例：高校３年生以下と高校１年生以下など）は構いません。 | S8: GDH２
A9: 監督氏名 | I9: コーチ氏名
A11: <種目記号> | D11: GDH１ | F11: 女子 高校３年以下 | J11: GDH２ | L11: 女子 高校１年以下
B12: ※各種目ランキング順に入力すること。
A13: No. | B13: 順位 | C13: 種目 | D13: 氏 名 | F13: ふ り が な | H13: 学年 | I13: 背面表示 | J13: 氏 名 | L13: ふ り が な | N13: 学年 | O13: 背面表示
C14: 記号 | D14: （苗字と名前の間に全角スペースを入れてください） | I14: （チーム名） | J14: （苗字と名前の間に全角スペースを入れてください） | O14: （チーム名）
A15: 1
A16: 2
A17: 3
A18: 4
A19: 5
A20: 6
A21: 7
A22: 8
A23: 9
A24: 10
A25: 11
A26: 12
... A28: 14
C30: 参加料 | E30: 中学生 | G30: 3,000 円 ｘ | I30: 組 = | K30: =H30*3000 -> 0 | L30: 円
E31: 高校生 | G31: 4,000 円 ｘ | I31: 組 = | K31: =H31*4000 -> 0 | L31: 円 | M31: 合計 | N31: =K30+K31&" 円" -> 0 円
J32: ※出場者全員が参加資格を満たしていることを確認のうえ、申込すること。 ※チーム毎にまとめて送金すること。
A33: ＊送金者名を下記にご記入ください。
C34: 送金者名：

Sheet 一般男子
A1: ='小中 男子'!A1:O1 -> ＊ 申込締切り 令和 ８年 １１月 ２７日（金) 必着
A2: ='小中 男子'!A2:O2 -> 第１９回一関市バドミントンダブルス大会 参加申込書
A3: 団体名 | K3: 申込者名
A4: 住 所 | K4: 連絡先TEL
A5: ﾒｰﾙアドレス
A7: 一般の部 / 男子
A8: 種目の混在（例:一般の部･１部と２部、初級の部など）は構いません。
A10: <種目記号> | D10: MD１ | F10: 男子 １部 | H10: MD２ | J10: 男子 ２部 | L10: MD３ | N10: 男子 ３部
D11: MD４ | F11: 男子 ４部 | H11: DB | J11: 初級の部
B12: ※各種目ランキング順に入力すること。
A13: No. | B13: 順位 | C13: 種目 | D13: 氏 名 | F13: ふ り が な | H13: 年齢 | I13: 背面表示 | J13: 氏 名 | L13: ふ り が な | N13: 年齢 | O13: 背面表示
C14: 記号 | D14: （苗字と名前の間に全角スペースを入れてください） | I14: （チーム名） | J14: （苗字と名前の間に全角スペースを入れてください） | O14: （チーム名）
A15: 1 | S15: MD1
A16: 2 | S16: MD２
A17: 3 | S17: MD３
A18: 4 | S18: MD４
A19: 5 | S19: DB
A20: 6
A21: 7
A22: 8
A23: 9
A24: 10
A25: 11
A26: 12
A27: 13
A28: 14
C30: 参加料 | E30: 高校生 | G30: 4,000 円 ｘ | I30: 組 = | K30: =H30*4000 -> 0 | L30: 円
E31: 学生・一般 | G31: 5,000 円 ｘ | I31: 組 = | K31: =H31*5000 -> 0 | L31: 円 | M31: 合計 | N31: =K30+K31&" 円" -> 0 円
J32: ※出場者全員が参加資格を満たしていることを確認のうえ、申込すること。 ※チーム毎にまとめて送金すること。
A33: ＊送金者名を下記にご記入ください。
C34: 送金者名：

Sheet 一般女子
A1: ='小中 男子'!A1:O1 -> ＊ 申込締切り 令和 ８年 １１月 ２７日（金) 必着
A2: ='小中 男子'!A2:O2 -> 第１９回一関市バドミントンダブルス大会 参加申込書
A3: 団体名 | K3: 申込者名
A4: 住 所 | K4: 連絡先TEL
A5: ﾒｰﾙアドレス
A7: 一般の部 / 女子
A8: 種目の混在（例:一般の部･１部と２部、初級の部など）は構いません。
A10: <種目記号> | D10: WD１ | F10: 女子 １部 | J10: WD２ | L10: 女子 ２部
D11: WD３ | F11: 女子 ３部 | J11: DB | L11: 初級の部
B12: ※各種目ランキング順に入力すること。
A13: No. | B13: 順位 | C13: 種目 | D13: 氏 名 | F13: ふ り が な | H13: 年齢 | I13: 背面表示 | J13: 氏 名 | L13: ふ り が な | N13: 年齢 | O13: 背面表示
C14: 記号 | D14: （苗字と名前の間に全角スペースを入れてください） | I14: （チーム名） | J14: （苗字と名前の間に全角スペースを入れてください） | O14: （チーム名）
A15: 1 | S15: WD１
A16: 2 | S16: WD２
A17: 3 | S17: WD３
A18: 4 | S18: DB
A19: 5
A20: 6
A21: 7
A22: 8
A23: 9
A24: 10
A25: 11
A26: 12
A27: 13
A28: 14
C30: 参加料 | E30: 高校生 | G30: 4,000 円 ｘ | I30: 組 = | K30: =H30*4000 -> 0 | L30: 円
E31: 学生・一般 | G31: 5,000 円 ｘ | I31: 組 = | K31: =H31*5000 -> 0 | L31: 円 | M31: 合計 | N31: =K30+K31&" 円" -> 0 円
J32: ※出場者全員が参加資格を満たしていることを確認のうえ、申込すること。 ※チーム毎にまとめて送金すること。
A33: ＊送金者名を下記にご記入ください。
C34: 送金者名：
